BEGIN:VCALENDAR
VERSION:2.0
PRODID:spatie/icalendar-generator
DESCRIPTION:Eventi da UNI-Crema
X-WR-CALDESC:Eventi da UNI-Crema
REFRESH-INTERVAL;VALUE=DURATION:PT1440M
X-PUBLISHED-TTL:PT1440M
BEGIN:VTIMEZONE
TZID:Etc/GMT+0
BEGIN:STANDARD
DTSTART:20250609T153000Z
TZOFFSETFROM:+0000
TZOFFSETTO:+0000
END:STANDARD
END:VTIMEZONE
BEGIN:VTIMEZONE
TZID:UTC
BEGIN:STANDARD
DTSTART:20250727T084133Z
TZOFFSETFROM:+0000
TZOFFSETTO:+0000
END:STANDARD
END:VTIMEZONE
BEGIN:VEVENT
UID:2509-564
DTSTAMP:20260423T084133Z
SUMMARY:Un personaggio dantesco morto di morte violenta
LOCATION:Ombriano\, scuola secondaria di primo grado Via Rampazzini\, 14  C
 rema CR 26013
ORGANIZER;CN=admin:MAILTO:admin@uni-crema.it
DTSTART;TZID=Etc/GMT+0:20260306T153000
DTEND;TZID=Etc/GMT+0:20260306T170000
X-ALT-DESC;FMTTYPE=TEXT/HTML:<p>Con Antonio Lacchini</p>\n
CATEGORIES:Filosofia,  Storia e Letteratura
URL;VALUE=URI:https://uni-crema.it/uni-crema/mc-events/un-personaggio-dante
 sco-morto-di-morte-violenta/
METHOD:PUBLISH
END:VEVENT
END:VCALENDAR